{"text_format":"3","workbook":"xlsx","n_sheets":1,"sheets":["ОБЗР"],"not_rendered":{"external_links":3,"defined_names":8},"read":"whole","date_system":"1900"}

{"sheet":"ОБЗР","index":0,"n_rows":19,"n_cols":16,"rows_kept":19}
["№","СНИЛС","Фамилия","Имя","Отчество","Пол","Дата рождения","Участник с ОВЗ","Класс","Класс участия","Балл","Макс. Балл","Статус","Призер МЭ прошлого года","Учитель","Место работы учителя"]
[1,2,3,4,5,6,7,8,9,10,11,12,13,14,15,16]
[1,18754795944,"Ахмадов","Амир","Сайханович","м","2015-02-03",0,4,4,32,50,"победитель","победитель","Галиева Елена Николаевна","МБОУ  \"Уруссинская гимназия\""]
[2,{"$f":"[1]Предмет!B7","v":18814113370},{"$f":"[1]Предмет!C7","v":"Хисматулина"},{"$f":"[1]Предмет!D7","v":"Дарина"},{"$f":"[1]Предмет!E7","v":"Тимуровна"},{"$f":"[1]Предмет!F7","v":"ж"},"2015-03-19",{"$f":"[1]Предмет!H7","v":0},{"$f":"[1]Предмет!I7","v":4},{"$f":"[1]Предмет!J7","v":4},{"$f":"[1]Предмет!K7","v":25},{"$f":"[1]Предмет!L7","v":50},{"$f":"[1]Предмет!M7","v":"призер"},{"$f":"[1]Предмет!N7","v":"нет"},{"$f":"[1]Предмет!O7","v":"Галиева Лилия Шамилевна"},{"$f":"[1]Предмет!P7","v":"МБОУ \"Уруссинская гимназия\""}]
[3,{"$f":"[1]Предмет!B5","v":18857301410},{"$f":"[1]Предмет!C5","v":"Кашапов"},{"$f":"[1]Предмет!D5","v":"Радэль"},{"$f":"[1]Предмет!E5","v":"Чулпанович"},{"$f":"[1]Предмет!F5","v":"м"},"2015-04-02",{"$f":"[1]Предмет!H5","v":0},{"$f":"[1]Предмет!I5","v":4},{"$f":"[1]Предмет!J5","v":4},{"$f":"[1]Предмет!K5","v":25},{"$f":"[1]Предмет!L5","v":50},{"$f":"[1]Предмет!M5","v":"призер"},{"$f":"[1]Предмет!N5","v":"нет"},{"$f":"[1]Предмет!O5","v":"Галиева Лилия Шамилевна"},{"$f":"[1]Предмет!P5","v":"МБОУ \"Уруссинская гимназия\""}]
[4,{"$f":"[1]Предмет!B6","v":18878218036},{"$f":"[1]Предмет!C6","v":"Ямаев "},{"$f":"[1]Предмет!D6","v":"Рустам"},{"$f":"[1]Предмет!E6","v":"Раисович"},{"$f":"[1]Предмет!F6","v":"м"},"2015-04-29",{"$f":"[1]Предмет!H6","v":0},{"$f":"[1]Предмет!I6","v":4},{"$f":"[1]Предмет!J6","v":4},{"$f":"[1]Предмет!K6","v":25},{"$f":"[1]Предмет!L6","v":50},{"$f":"[1]Предмет!M6","v":"призер"},{"$f":"[1]Предмет!N6","v":"нет"},{"$f":"[1]Предмет!O6","v":"Галиева Лилия Шамилевна"},{"$f":"[1]Предмет!P6","v":"МБОУ \"Уруссинская гимназия\""}]
[5,18829520818,"Хуснуллина","Вероника","Денисовна","ж","2015-03-19",0,4,4,30,50,"призер","нет","Рахматуллина Алсу Мукатдисовна","МБОУ\"Уруссинская гимназия\""]
[6,18859089953,"Гареев ","Сабир","Ильшатович","м","2015-03-27",0,4,4,29,50,"призер","нет","Рахматуллина Алсу Мукатдисовна","МБОУ\"Уруссинская гимназия\""]
[7,{"$f":"[2]Предмет!B5","v":19059918413},{"$f":"[2]Предмет!C5","v":"Насырова"},{"$f":"[2]Предмет!D5","v":"Рината"},{"$f":"[2]Предмет!E5","v":"Анселевна"},{"$f":"[2]Предмет!F5","v":"ж"},"2015-08-30",{"$f":"[2]Предмет!H5","v":0},{"$f":"[2]Предмет!I5","v":3},{"$f":"[2]Предмет!J5","v":3},30,{"$f":"[2]Предмет!L5","v":50},"победитель",{"$f":"[2]Предмет!N5","v":"нет"},"Идрисова Айгуль Маратовна",{"$f":"[2]Предмет!P5","v":"МБОУ \"Уруссинская гимназия\""}]
[8,{"$f":"[2]Предмет!B6","v":19335380181},{"$f":"[2]Предмет!C6","v":"Курбонов"},{"$f":"[2]Предмет!D6","v":"Усман"},{"$f":"[2]Предмет!E6","v":"Хусравович"},{"$f":"[2]Предмет!F6","v":"м"},"2016-03-30",{"$f":"[2]Предмет!H6","v":0},{"$f":"[2]Предмет!I6","v":3},{"$f":"[2]Предмет!J6","v":3},28,{"$f":"[2]Предмет!L6","v":50},"призер",{"$f":"[2]Предмет!N6","v":"нет"},"Идрисова Айгуль Маратовна",{"$f":"[2]Предмет!P6","v":"МБОУ \"Уруссинская гимназия\""}]
[9,{"$f":"[3]Предмет!B3","v":"192-09609788"},{"$f":"[3]Предмет!C3","v":"Гофман "},{"$f":"[3]Предмет!D3","v":"Яромир "},{"$f":"[3]Предмет!E3","v":"Вячеславовичм"},{"$f":"[3]Предмет!F3","v":"м"},{"$f":"[3]Предмет!G3","v":"2015-12-11"},{"$f":"[3]Предмет!H3","v":0},{"$f":"[3]Предмет!I3","v":3},{"$f":"[3]Предмет!J3","v":3},26,{"$f":"[3]Предмет!L3","v":50},"призер",{"$f":"[3]Предмет!N3","v":"нет"},"Маслова Эльвира Ринатовна",{"$f":"$P$10","v":"МБОУ \"Уруссинская гимназия\""}]
[10,{"$f":"[3]Предмет!B4","v":"195-15815192Ахметова "},{"$f":"[3]Предмет!C4","v":"Евсеева"},{"$f":"[3]Предмет!D4","v":"Лейсан"},{"$f":"[3]Предмет!E4","v":"Айдаровна"},{"$f":"[3]Предмет!F4","v":"ж"},{"$f":"[3]Предмет!G4","v":"2016-08-08"},{"$f":"[3]Предмет!H4","v":0},{"$f":"[3]Предмет!I4","v":3},{"$f":"[3]Предмет!J4","v":3},25,{"$f":"[3]Предмет!L4","v":50},{"$f":"[3]Предмет!M4","v":"призёр"},{"$f":"[3]Предмет!N4","v":"нет"},"Маслова Эльвира Ринатовна",{"$f":"$P$10","v":"МБОУ \"Уруссинская гимназия\""}]
[11,18291193991,"Свириденко","Аиша","Дмитриевна","ж","2014-07-30",0,5,5,29,50,"призер","нет","Смоленцев Глеб Юрьевич",{"$f":"$P$12","v":"МБОУ \"Уруссинская гимназия\""}]
[12,18750140472,"Созонова","Карина","Дмитриева","ж","2015-02-15",0,5,5,32,50,"победитель","нет","Смоленцев Глеб Юрьевич",{"$f":"$P$12","v":"МБОУ \"Уруссинская гимназия\""}]
[13,17949317024,"Тазеев","Дамир","Рустамович","м","2013-12-08",0,5,5,26,50,"призер","нет","Мсмоленцев Глеб Юрьевич",{"$f":"$P$12","v":"МБОУ \"Уруссинская гимназия\""}]
[14,17493648719,"Галиуллин","Артем","Айнурович","м","2012-12-25",0,6,6,35,50,"победитель","нет","Смоленцев Глеб Юрьевич",{"$f":"$P$12","v":"МБОУ \"Уруссинская гимназия\""}]
[15,16964682026,"Исмагилова","Аделия","Маратовна","ж","2011-12-20",0,8,8,101,150,"победитель","призер","Смоленцев Глеб Юрьевич",{"$f":"$P$16","v":"МБОУ \"Уруссинская гимназия\""}]
[16,16433497983,"Фаизрахманов","Ильяс","Эдуардович","м","2011-03-07",0,8,8,92,150,"призер","призер","Смоленцев Глеб Юрьевич",{"$f":"$P$16","v":"МБОУ \"Уруссинская гимназия\""}]
[17,17860568413,"Зиляев","Руслан","Денисович","м","2010-01-14",0,9,9,103,150,"победитель","нет","Смоленцев  Глеб Юрьевич",{"$f":"$P$16","v":"МБОУ \"Уруссинская гимназия\""}]